BEGIN:VCALENDAR
VERSION:2.0
BEGIN:VEVENT
STATUS:TENTATIVE
DTSTART:20201209T153000Z
DTEND:20201209T183000Z
SUMMARY:Preparando el cierre fiscal del IRPF y del IS del ejercicio 2.020.
LOCATION:Jornada on-line
DESCRIPTION:Jornada. JORNADA VIDEOSTREAMING
END:VEVENT
END:VCALENDAR
