BEGIN:VCALENDAR
VERSION:2.0
BEGIN:VEVENT
STATUS:TENTATIVE
DTSTART:20201202T170000Z
DTEND:20201202T190000Z
SUMMARY:Jurisprudencia actual sobre procedimientos tributarios
LOCATION:Jornada On Line
DESCRIPTION:Jornada. Jornada videostrreaming
END:VEVENT
END:VCALENDAR
