BEGIN:VCALENDAR
VERSION:2.0
BEGIN:VEVENT
STATUS:TENTATIVE
DTSTART:20210114T150000Z
DTEND:20210114T170000Z
SUMMARY:Curso Blockchain y los Criptoactivos- ON LINE
LOCATION:Via Zoom. Imprescindible acreditarse con nombre y apellido.
DESCRIPTION:Tertulia. Abierto a colaboradores. Idioma : Castellano
END:VEVENT
END:VCALENDAR
