BEGIN:VCALENDAR
VERSION:2.0
BEGIN:VEVENT
STATUS:TENTATIVE
DTSTART:20201221T110000Z
DTEND:20201221T130000Z
SUMMARY:Activos y Pasivos Ficticios en Impuestos de Sociedades
LOCATION:Sede Málaga
DESCRIPTION:Jornada. VÍA ZOOM
END:VEVENT
END:VCALENDAR
