BEGIN:VCALENDAR
VERSION:2.0
BEGIN:VEVENT
STATUS:TENTATIVE
DTSTART:20210128T110000Z
DTEND:20210128T123000Z
SUMMARY:Apunte técnico: Estructuras internacionales. Novedades 2020 y estado de situación - ON LINE
LOCATION:Via Zoom. Imprescindible acreditarse con nombre y apellido.
DESCRIPTION:Tertulia. Abierto a colaboradores. Idioma: Castellano.
END:VEVENT
END:VCALENDAR
