BEGIN:VCALENDAR
VERSION:2.0
BEGIN:VEVENT
STATUS:TENTATIVE
DTSTART:20210108T083000Z
DTEND:20210108T110000Z
SUMMARY:Novedades en declaraciones informativas 2020 y otras novedades relevantes para 2021.
LOCATION:Via Zoom . Imprescindible acreditarse con nombre y apellido
DESCRIPTION:Jornada. Horario: 09:30 a 12:00
END:VEVENT
END:VCALENDAR
