BEGIN:VCALENDAR
VERSION:2.0
BEGIN:VEVENT
STATUS:TENTATIVE
DTSTART:20210126T170000Z
DTEND:20210126T190000Z
SUMMARY:MARTES ON-LINE - FALCA sobre Tributación en la reducción del capital y la tributación de los socios-ON LINE
LOCATION:ZOOM.US. Imprescindible acreditarse con nombre y apellido
DESCRIPTION:Tertulia. OBLIGATORIO TENER VIDEO ENCENDIDO Y/O MICROFONO PARA PODER SER IDENTIFICADOS. Sólo para asociados. Idioma catalán. 
END:VEVENT
END:VCALENDAR
