BEGIN:VCALENDAR
VERSION:2.0
BEGIN:VEVENT
STATUS:TENTATIVE
DTSTART:20210211T150000Z
DTEND:20210211T170000Z
SUMMARY:Apunte técnico: Rendimientos en especie y retribución flexible. ¿Vale la pena?- ON LINE
LOCATION:Via Zoom. Imprescindible acreditarse con nombre y apellido.
DESCRIPTION:Tertulia. Abierto a colaboradores. Idioma exposición : Castellano
END:VEVENT
END:VCALENDAR
