BEGIN:VCALENDAR
VERSION:2.0
BEGIN:VEVENT
STATUS:TENTATIVE
DTSTART:20210308T080000Z
DTEND:20210308T100000Z
SUMMARY:Jornada de Novedades 2021: Ley de prevención del fraude fiscal. SESIÓN I - ON LINE
LOCATION:Via Zoom. Imprescindible acreditarse con nombre y apellido.
DESCRIPTION:Tertulia. OBLIGATORIO VIDEO ENCENDIDO .Abierto a colaboradores. Idioma: Castellano.
END:VEVENT
END:VCALENDAR
