BEGIN:VCALENDAR
VERSION:2.0
BEGIN:VEVENT
STATUS:TENTATIVE
DTSTART:20210407T160000Z
DTEND:20210407T180000Z
SUMMARY:Apunte técnico:  I + D a nivel de gestión.- ON LINE
LOCATION:Via Zoom. Imprescindible acreditarse con nombre y apellido.VIDEO EN MARCHA
DESCRIPTION:Tertulia. ASOCIADOS OBLIGATORIA VIDEO ENCENDIDO.Abierto a colaboradores. Exposición en castellano
END:VEVENT
END:VCALENDAR
