BEGIN:VCALENDAR
VERSION:2.0
BEGIN:VEVENT
STATUS:TENTATIVE
DTSTART:20210412T073000Z
DTEND:20210412T100000Z
SUMMARY:Curso básico IRPF- ON LINE
LOCATION:Via Zoom. Imprescindible acreditarse con nombre y apellido.
DESCRIPTION:Tertulia. Abierto a colaboradores. Idioma : Castellano-Catalàn
END:VEVENT
END:VCALENDAR
