BEGIN:VCALENDAR
VERSION:2.0
BEGIN:VEVENT
STATUS:TENTATIVE
DTSTART:20210322T150000Z
DTEND:20210322T163000Z
SUMMARY:El precinto y la apertura de cajas de seguridad bancaria por la AEAT. Algunas cuestiones problemáticas
LOCATION:Jornada On Line
DESCRIPTION:Jornada. Jornada videostrreaming
END:VEVENT
END:VCALENDAR
