BEGIN:VCALENDAR
VERSION:2.0
BEGIN:VEVENT
STATUS:TENTATIVE
DTSTART:20210505T144500Z
DTEND:20210505T163000Z
SUMMARY:Renta online 2020. Aspectos prácticos a tener en cuenta durante la campaña de Renta 2020 y para la planificación de la Renta de 2021
LOCATION:Jornada On Line
DESCRIPTION:Jornada. Jornada videostrreaming
END:VEVENT
END:VCALENDAR
