BEGIN:VCALENDAR
VERSION:2.0
BEGIN:VEVENT
STATUS:TENTATIVE
DTSTART:20210505T140000Z
DTEND:20210505T160000Z
SUMMARY:Apunte técnico: sobre el Reglamento de la Ley 22/2015 de 20 de julio sobre la Auditoria de Cuentas. ON LINE Grupo Mercantil
LOCATION:Via Zoom. Imprescindible acreditarse con nombre y apellido.VIDEO EN MARCHA
DESCRIPTION:Tertulia. OBLIGATORIA VIDEO ENCENDIDO.Abierto a colaboradores. 
END:VEVENT
END:VCALENDAR
