BEGIN:VCALENDAR
VERSION:2.0
BEGIN:VEVENT
STATUS:TENTATIVE
DTSTART:20211027T140000Z
DTEND:20211027T160000Z
SUMMARY:Apunte técnico: el conflicto de intereses enlas fundaciones catalanas.ON LINE Grup ESFL
LOCATION:Via Zoom
DESCRIPTION:Tertulia. 
END:VEVENT
END:VCALENDAR
