BEGIN:VCALENDAR
VERSION:2.0
BEGIN:VEVENT
STATUS:TENTATIVE
DTSTART:20210512T150000Z
DTEND:20210512T170000Z
SUMMARY:XI Tertulia fiscal. El Impuesto sobre la Renta en un flash!
LOCATION:Jornada On Line
DESCRIPTION:Jornada. 
END:VEVENT
END:VCALENDAR
