BEGIN:VCALENDAR
VERSION:2.0
BEGIN:VEVENT
STATUS:TENTATIVE
DTSTART:20210519T143000Z
DTEND:20210519T170000Z
SUMMARY:Campaña de renta 2020: Aspectos prácticos y controvertidos más habituales y de mayor complejidad.
LOCATION:Via Zoom . Imprescindible acreditarse con nombre y apellido
DESCRIPTION:Jornada. Horario: 16:30 a 19:00
END:VEVENT
END:VCALENDAR
