BEGIN:VCALENDAR
VERSION:2.0
BEGIN:VEVENT
STATUS:TENTATIVE
DTSTART:20210519T160000Z
DTEND:20210519T173000Z
SUMMARY:Novedades procedimiento de inspección: Repaso a las principales novedades legislativas y los últimos pronunciamientos jurisprudenciales y doctrina administrativa
LOCATION:Jornada On Line
DESCRIPTION:Jornada. Jornada videostrreaming
END:VEVENT
END:VCALENDAR
