BEGIN:VCALENDAR
VERSION:2.0
BEGIN:VEVENT
STATUS:TENTATIVE
DTSTART:20210618T080000Z
DTEND:20210618T120000Z
SUMMARY:Jornada presencial y on line. La doctrina del Tribunal Supremo como pilar de un sistema tributario en construcción
LOCATION:A Coruña Fundación Paideia Galiza Plaza María Pita, 17
DESCRIPTION:Jornada. Jornada Presencial y On line
END:VEVENT
END:VCALENDAR
