BEGIN:VCALENDAR
VERSION:2.0
BEGIN:VEVENT
STATUS:TENTATIVE
DTSTART:20211021T150000Z
DTEND:20211021T170000Z
SUMMARY:Apunte técnico:  Aspectos más destacados del impuesto sobre sucesiones y donaciones la transmisión de la empresa familiar. Grupo Empresa Familiar
LOCATION:Vía zoom
DESCRIPTION:Tertulia. Abierto a colaboradores. Idioma: Català
END:VEVENT
END:VCALENDAR
