BEGIN:VCALENDAR
VERSION:2.0
BEGIN:VEVENT
STATUS:TENTATIVE
DTSTART:20211013T160000Z
DTEND:20211013T180000Z
SUMMARY:Curso sobre sucesiones
LOCATION:Via Zoom. Imprescindible acreditarse con nombre y apellido.VIDEO EN MARCHA
DESCRIPTION:Tertulia. OBLIGATORIA VIDEO ENCENDIDO.Abierto a colaboradores. 
END:VEVENT
END:VCALENDAR
