BEGIN:VCALENDAR
VERSION:2.0
BEGIN:VEVENT
STATUS:TENTATIVE
DTSTART:20211108T143000Z
DTEND:20211108T173000Z
SUMMARY:Curso de Auditoría del Área Fiscal (nivel avanzado)
LOCATION:ZOOM.US. Imprescindible acreditarse con nombre y apellido y video en marcha
DESCRIPTION:Seminario. idioma : catalá
END:VEVENT
END:VCALENDAR
