BEGIN:VCALENDAR
VERSION:2.0
BEGIN:VEVENT
STATUS:TENTATIVE
DTSTART:20211124T150000Z
DTEND:20211124T170000Z
SUMMARY:Apunte técnico: Análisis e interpretación de estados financieros, información estadística del registro mercanil y ratios. Grupo Economia i Comptabilidad
LOCATION:Via Zoom. Imprescindible acreditarse con nombre y apellido.VIDEO EN MARCHA
DESCRIPTION:Tertulia. VIDEO OBLIGATORIO.Abierto a colaboradores. Idioma: Castellano.
END:VEVENT
END:VCALENDAR
