BEGIN:VCALENDAR
VERSION:2.0
BEGIN:VEVENT
STATUS:TENTATIVE
DTSTART:20210922T103000Z
DTEND:20210922T114500Z
SUMMARY:XII Tertulia fiscal.  Deducción por doble imposición internacional
LOCATION:Jornada On Line
DESCRIPTION:Jornada. Jornada videostrreaming
END:VEVENT
END:VCALENDAR
