BEGIN:VCALENDAR
VERSION:2.0
BEGIN:VEVENT
STATUS:TENTATIVE
DTSTART:20210922T150000Z
DTEND:20210922T173000Z
SUMMARY:El delito fiscal y las obligaciones de cumplimiento en materia de prevención del blanqueo de capitales en despachos profesionales
LOCATION:Santander. Hotel Bahía C/ Cádiz, 22. Salón Laredo
DESCRIPTION:Jornada. En el curso se abordará especialmente el tema de la RESPONSABILIDAD PENAL DEL ASESOR FISCAL EN EL DELITO CONTRA LA HACIENDA PÚBLICA.
END:VEVENT
END:VCALENDAR
