BEGIN:VCALENDAR
VERSION:2.0
BEGIN:VEVENT
STATUS:TENTATIVE
DTSTART:20210923T100000Z
DTEND:20210923T113000Z
SUMMARY:Tertulia Fiscal: Novedades introducidas por la Ley de prevención y lucha contra el fraude fiscal
LOCATION:Jornada On Line
DESCRIPTION:Tertulia. Jornada videostrreaming
END:VEVENT
END:VCALENDAR
