BEGIN:VCALENDAR
VERSION:2.0
BEGIN:VEVENT
STATUS:TENTATIVE
DTSTART:20211202T150000Z
DTEND:20211202T170000Z
SUMMARY:Apunte técnico sobre Cuestiones tributarias conflictivas en situaciones de tensión financiera: refinanciaciones, compraventa de deuda y protección de patrimonio a nivel de la empresa familiar. Grupo IS
LOCATION:Via Zoom. Imprescindible acreditarse con nombre y apellido.VIDEO EN MARCHA
DESCRIPTION:Tertulia. Abierto a colaboradores. Idioma: Castellano
END:VEVENT
END:VCALENDAR
