BEGIN:VCALENDAR
VERSION:2.0
BEGIN:VEVENT
STATUS:TENTATIVE
DTSTART:20211028T140000Z
DTEND:20211028T153000Z
SUMMARY:Apunte técnico: Modelos de compra-venta e integraciones de despachos profesionales.. Grupo Noves Tecnologies y Gestión de Despachos
LOCATION:Via Zoom. Imprescindible acreditarse con nombre y apellido.VIDEO EN MARCHA
DESCRIPTION:Tertulia. OBLIGATORIA VIDEO ENCENDIDO.Abierto a colaboradores. 
END:VEVENT
END:VCALENDAR
