BEGIN:VCALENDAR
VERSION:2.0
BEGIN:VEVENT
STATUS:TENTATIVE
DTSTART:20211020T140000Z
DTEND:20211020T160000Z
SUMMARY:Curso de Procedimientos Tributarios
LOCATION:Sede Central (O´Donnell 7, 1º D)
DESCRIPTION:Jornada. 
END:VEVENT
END:VCALENDAR
