BEGIN:VCALENDAR
VERSION:2.0
BEGIN:VEVENT
STATUS:TENTATIVE
DTSTART:20211117T150000Z
DTEND:20211117T170000Z
SUMMARY:Apunte técnico: sobre la figura de los EP i sus implicaciones en diferentes impuestos. Grupo Internacional
LOCATION:Via Zoom. Imprescindible acreditarse con nombre y apellido.VIDEO EN MARCHA
DESCRIPTION:Tertulia. Abierto a colaboradores. 
END:VEVENT
END:VCALENDAR
