BEGIN:VCALENDAR
VERSION:2.0
BEGIN:VEVENT
STATUS:TENTATIVE
DTSTART:20211028T143000Z
DTEND:20211028T173000Z
SUMMARY:Reciente jurisprudencia del Tribunal Supremo y del Tribunal Superior de Justicia de la Comunidad Valenciana en materia tributaria
LOCATION:Hotel Eurostars Rey Don Jaime Av. de les Balears, 2
DESCRIPTION:Jornada. 
END:VEVENT
END:VCALENDAR
