BEGIN:VCALENDAR
VERSION:2.0
BEGIN:VEVENT
STATUS:TENTATIVE
DTSTART:20211027T143000Z
DTEND:20211027T163000Z
SUMMARY:OPTIMIZACIÓN DE LOS TRIBUTOS LOCALES
LOCATION:Sede Central (O´Donnell 7, 1º D)
DESCRIPTION:Jornada. 
END:VEVENT
END:VCALENDAR
