BEGIN:VCALENDAR
VERSION:2.0
BEGIN:VEVENT
STATUS:TENTATIVE
DTSTART:20211201T150000Z
DTEND:20211201T170000Z
SUMMARY:Apunte técnico :sobre la fiscalidad del deporte. Grup IRPF
LOCATION:Vía zoom
DESCRIPTION:Tertulia. Abierto a colaboradores. Idioma : Castellano
END:VEVENT
END:VCALENDAR
