BEGIN:VCALENDAR
VERSION:2.0
BEGIN:VEVENT
STATUS:TENTATIVE
DTSTART:20211109T153000Z
DTEND:20211109T180000Z
SUMMARY:Procedimiento abreviado contencioso-administrativo. Especial atención a los tributos locales
LOCATION:Facultad de Derecho, Universidad de Murcia (Campus de la Merced, calle Santo Cristo, 1, Murcia). Salón de Actos, en planta baja. Entrada por patio central.
DESCRIPTION:Jornada. 
END:VEVENT
END:VCALENDAR
