BEGIN:VCALENDAR
VERSION:2.0
BEGIN:VEVENT
STATUS:TENTATIVE
DTSTART:20211104T150000Z
DTEND:20211104T160000Z
SUMMARY:Tertulia Fiscal
LOCATION:Cafetería del Hotel ALMA Pamplona. C/ Beloso Bajo nº 11
DESCRIPTION:Jornada. 
END:VEVENT
END:VCALENDAR
