BEGIN:VCALENDAR
VERSION:2.0
BEGIN:VEVENT
STATUS:TENTATIVE
DTSTART:20211111T153000Z
DTEND:20211111T183000Z
SUMMARY:Fiscalidad de las operaciones de extinción total o parcial de las comunidades de bienes. Doctrina administrativa y jurisprudencia reciente
LOCATION:Hotel Eurostars Rey Don Jaime  Av. de les Balears, 2 Salas Sorolla I y II
DESCRIPTION:Jornada. 
END:VEVENT
END:VCALENDAR
