BEGIN:VCALENDAR
VERSION:2.0
BEGIN:VEVENT
STATUS:TENTATIVE
DTSTART:20211216T080000Z
DTEND:20211216T183000Z
SUMMARY:JORNADA CIERRE FISCAL 2021
LOCATION:Auditorio UPF-BSM (c/ Balmes, 132-134, Barcelona)
DESCRIPTION:Tertulia. PRESENCIAL NOMES PER ASSOCIATS-Obligatorio mascarilla y certificado vacunación COVID
END:VEVENT
END:VCALENDAR
