BEGIN:VCALENDAR
VERSION:2.0
BEGIN:VEVENT
STATUS:TENTATIVE
DTSTART:20211214T110000Z
DTEND:20211214T131500Z
SUMMARY:El día después:  valor de referencia y plusvalía municipal
LOCATION:Universidad de Oviedo - antigua Facultad de Derecho C/ San Francisco, s/n  Aula Rector Alas
DESCRIPTION:Jornada. Jornada presencial
END:VEVENT
END:VCALENDAR
