BEGIN:VCALENDAR
VERSION:2.0
BEGIN:VEVENT
STATUS:TENTATIVE
DTSTART:20211215T160000Z
DTEND:20211215T180000Z
SUMMARY:Conflicto, simulación y calificación de la norma tributaria. Últimos planteamientos jurisprudenciales y perspectivas de reforma.
LOCATION:Sevilla Ilustre Colegio Notarial de Andalucía - sede de Sevilla C/ San Miguel, 1
DESCRIPTION:Jornada. Jornada Presencial y On line
END:VEVENT
END:VCALENDAR
