BEGIN:VCALENDAR
VERSION:2.0
BEGIN:VEVENT
STATUS:TENTATIVE
DTSTART:20220112T153000Z
DTEND:20220112T173000Z
SUMMARY:Novedades en declaraciones informativas 2021 y otras novedades relevantes para 2022
LOCATION:Via Zoom . Imprescindible acreditarse con nombre y apellido
DESCRIPTION:Jornada. Horario: 16:30 a 18:30
END:VEVENT
END:VCALENDAR
