BEGIN:VCALENDAR
VERSION:2.0
BEGIN:VEVENT
STATUS:TENTATIVE
DTSTART:20220126T153000Z
DTEND:20220126T173000Z
SUMMARY:Píldora de Reforma Laboral
LOCATION:ON LINE
DESCRIPTION:Jornada. Ponente: Urbano Blanes
END:VEVENT
END:VCALENDAR
