BEGIN:VCALENDAR
VERSION:2.0
BEGIN:VEVENT
STATUS:TENTATIVE
DTSTART:20220223T153000Z
DTEND:20220223T183000Z
SUMMARY:Cierre contable y fiscal 2021
LOCATION:Salón de Actos de la Facultad de Derecho de Albacete. Plaza de la Universidad, 1. Albacete
DESCRIPTION:Jornada. Horario: 16:30 a 19:30
END:VEVENT
END:VCALENDAR
