BEGIN:VCALENDAR
VERSION:2.0
BEGIN:VEVENT
STATUS:TENTATIVE
DTSTART:20220204T083000Z
DTEND:20220204T100000Z
SUMMARY:Tertulia fiscal: valores de referencia. Novedades en impuestos cedidos.  Cuestiones de tema libre.
LOCATION:Jornada On Line
DESCRIPTION:Jornada. Jornada videostrreaming
END:VEVENT
END:VCALENDAR
