BEGIN:VCALENDAR
VERSION:2.0
BEGIN:VEVENT
STATUS:TENTATIVE
DTSTART:20221108T080000Z
DTEND:20221108T130000Z
SUMMARY:JORNADA EMPRESA FAMILIAR: LAS HERENCIAS INTERNACIONALES.
LOCATION:Seu de la Delegació Catalana. c/ Provença, 281, baixos. Barcelona.
DESCRIPTION:Jornada. OBLIGATORIO VIDEO ENCENDIDO .Abierto a colaboradores. Idioma: Castellano.
END:VEVENT
END:VCALENDAR
