BEGIN:VCALENDAR
VERSION:2.0
BEGIN:VEVENT
STATUS:TENTATIVE
DTSTART:20220202T100000Z
DTEND:20220202T110000Z
SUMMARY:Jornada PROPUESTAS DE ADAPTACIÓN DE ASPECTOS FISCALES DEL REF. GRAN CANARIA
LOCATION:Cámara de Comercio de Gran Canaria (C. León y Castillo, 24, Las Palmas de Gran Canaria).
DESCRIPTION:Jornada. Plazas limitadas: 35 plazas presenciales. Se reservarán por riguroso orden de inscripción. La jornada será retrasmitida también de forma online
END:VEVENT
END:VCALENDAR
