BEGIN:VCALENDAR
VERSION:2.0
BEGIN:VEVENT
STATUS:TENTATIVE
DTSTART:20220330T140000Z
DTEND:20220330T160000Z
SUMMARY:Apunte técnico: Patrimonialidad de la Sciedad. Cómo se determina la misma, y en qué casos se incurre. Revisión de la jurisprudencia y doctrina y supuestos prácticos. Grupo Empresa familiar
LOCATION:Via Zoom. Imprescindible acreditarse con nombre y apellido.VIDEO EN MARCHA
DESCRIPTION:Tertulia. OBLIGATORIO VIDEO ENCENDIDO .Abierto a colaboradores. Idioma: Castellano.
END:VEVENT
END:VCALENDAR
