BEGIN:VCALENDAR
VERSION:2.0
BEGIN:VEVENT
STATUS:TENTATIVE
DTSTART:20220929T140000Z
DTEND:20220929T160000Z
SUMMARY:Apunte técnico: La retribución de los administradores en la empresa familiar para la obtención de beneficios en el IP y en ISD, ejemplos prácticos
LOCATION:Seu de la Delegació Catalana. c/ Provença, 281, baixos. Barcelona/ ZOOM: vídeo en marcha para poder ser identificado en todo momento.
DESCRIPTION:Tertulia. IDIOMA : CASTELLANO
END:VEVENT
END:VCALENDAR
