BEGIN:VCALENDAR
VERSION:2.0
BEGIN:VEVENT
STATUS:TENTATIVE
DTSTART:20220221T150000Z
DTEND:20220221T170000Z
SUMMARY:Apunte técnico: Los gastos deducibles en el rendimiento inmobiliario.Grupo IRPF
LOCATION:Via Zoom. Imprescindible acreditarse con nombre y apellido.VIDEO EN MARCHA
DESCRIPTION:Tertulia. VIDEO OBLIGATORIO.Abierto a colaboradores. Idioma: Castellano-Catalán
END:VEVENT
END:VCALENDAR
