BEGIN:VCALENDAR
VERSION:2.0
BEGIN:VEVENT
STATUS:TENTATIVE
DTSTART:20220215T150000Z
DTEND:20220215T170000Z
SUMMARY:PRESENCIAL: Mesa Redona sobre el impuesto de plusvalia.
LOCATION:Auditorio UPF-BSM (c/ Balmes, 132-134, Barcelona)
DESCRIPTION:Tertulia. PRESENCIAL NOMES PER ASSOCIATS-Obligatorio mascarilla y certificado vacunación COVID
END:VEVENT
END:VCALENDAR
