BEGIN:VCALENDAR
VERSION:2.0
BEGIN:VEVENT
STATUS:TENTATIVE
DTSTART:20220303T153000Z
DTEND:20220303T190000Z
SUMMARY:Aspectos más relevantes del cierre contable y fiscal del ejercicio 2021
LOCATION:Facultad de Derecho, Universidad de Murcia (Campus de la Merced, calle Santo Cristo, 1 ). Salón de Actos, en planta baja. entrada por patio central. Murcia
DESCRIPTION:Jornada. Las bajas en los cursos deberán comunicarse por escrito al correo electrónico: marketing@aedaf.es antes de las 24 horas antes de su inicio. Transcurrido dicho plazo cualquier anulación no dará derecho a la devolución del importe de la inscripción abonada.
END:VEVENT
END:VCALENDAR
